BEGIN:VCALENDAR
VERSION:2.0
PRODID:-//State of Washington Water Research Center - ECPv6.1.3//NONSGML v1.0//EN
CALSCALE:GREGORIAN
METHOD:PUBLISH
X-WR-CALNAME:State of Washington Water Research Center
X-ORIGINAL-URL:https://wrc.wsu.edu
X-WR-CALDESC:Events for State of Washington Water Research Center
REFRESH-INTERVAL;VALUE=DURATION:PT1H
X-Robots-Tag:noindex
X-PUBLISHED-TTL:PT1H
BEGIN:VTIMEZONE
TZID:America/Los_Angeles
BEGIN:DAYLIGHT
TZOFFSETFROM:-0800
TZOFFSETTO:-0700
TZNAME:PDT
DTSTART:20240310T100000
END:DAYLIGHT
BEGIN:STANDARD
TZOFFSETFROM:-0700
TZOFFSETTO:-0800
TZNAME:PST
DTSTART:20241103T090000
END:STANDARD
END:VTIMEZONE
BEGIN:VEVENT
DTSTART;VALUE=DATE:20240315
DTEND;VALUE=DATE:20240317
DTSTAMP:20260424T051412
CREATED:20231115T184157Z
LAST-MODIFIED:20231115T184516Z
UID:8534-1710460800-1710633599@wrc.wsu.edu
SUMMARY:2024 Pacific Northwest Ground Water Exposition
DESCRIPTION:In the late 1950s\, members of the water well industry came together to create a trade show specifically for the Pacific Northwest. As the event grew in popularity\, the Pacific Northwest Ground Water Association (PNWGWA) was officially formed with representation from the Alaska\, Idaho\, Oregon\, and Washington state associations. \nThe PNWGWA’s goal is to provide a quality program bringing together contractors\, manufacturers\, and suppliers focused on the needs of the ground water industry in the Pacific Northwest.  \nJoin fellow ground water industry professionals from Alaska\, Idaho\, Oregon\, Washington\, and surrounding areas for the premier biennial industry event in the region. \nDetails about the event\, including exhibiting and sponsorship opportunities\, the schedule of workshops and other educational offerings\, and registration will be added to the website as the information becomes available. In the meantime\, mark the dates on your calendar –  March 15-16\, 2024 in Vancouver\, Washington!
URL:https://wrc.wsu.edu/event/2024-pacific-northwest-groundwater-exposition/
LOCATION:Vancouver\, WA
END:VEVENT
BEGIN:VEVENT
DTSTART;VALUE=DATE:20240318
DTEND;VALUE=DATE:20240320
DTSTAMP:20260424T051412
CREATED:20240214T173946Z
LAST-MODIFIED:20240214T173946Z
UID:8790-1710720000-1710892799@wrc.wsu.edu
SUMMARY:Northwest Groundwater Conference 
DESCRIPTION:Pasco\, WA – March 18 & 19\, 2024 \nThe American Ground Water Trust conference is an information-exchange and networking opportunity for water agencies\, utilities and water districts\, water professionals (scientific\, engineering\, managerial\, legal\, environmental\, and regulatory)\, water operators\, industrial and irrigation end-users of water\, local and state elected officials and academics with an interest in water supply and water policy and regulatory issues in Idaho\, Oregon\, and Washington.\n  \nLearn more
URL:https://wrc.wsu.edu/event/northwest-groundwater-conference/
LOCATION:Pasco\, WA
END:VEVENT
BEGIN:VEVENT
DTSTART;TZID=America/Los_Angeles:20240321T120000
DTEND;TZID=America/Los_Angeles:20240321T130000
DTSTAMP:20260424T051412
CREATED:20240206T180652Z
LAST-MODIFIED:20240206T180652Z
UID:8778-1711022400-1711026000@wrc.wsu.edu
SUMMARY:Using Drone-based Technologies to Map Stream Characteristics and Salmon Spawning Habitat
DESCRIPTION:Dr. Fremier and Co-PI Daniel Auerbach developed drone-based technologies to measure stream velocity\, temperature\, and morphology.  These measurements help identify and quantify salmon spawning habitat and offer new methodologies for environmental monitoring.  Dr. Fremier will share the details of their study and work with the Washington Department of Fish and Wildlife in the Wenatchee River. \nLearn more and register here
URL:https://wrc.wsu.edu/event/using-drone-based-technologies-to-map-stream-characteristics-and-salmon-spawning-habitat/
LOCATION:Zoom
END:VEVENT
BEGIN:VEVENT
DTSTART;VALUE=DATE:20240325
DTEND;VALUE=DATE:20240328
DTSTAMP:20260424T051412
CREATED:20230720T141738Z
LAST-MODIFIED:20230720T141757Z
UID:7594-1711324800-1711583999@wrc.wsu.edu
SUMMARY:AWRA 2024 Geospatial Water Technology Conference (GWTC)
DESCRIPTION:Data to Decisions: Managing and Modeling Water Challenges\nMARCH 25-27\, 2024 | ORLANDO\, FL\n  \nJoin us for the AWRA 2024 Geospatial Water Technology Conference! This conference is designed to highlight existing and new geospatial and technological tools to solve water resources-related problems.
URL:https://wrc.wsu.edu/event/awra-2024-geospatial-water-technology-conference-gwtc/
LOCATION:Orlando\, FL
END:VEVENT
END:VCALENDAR