BEGIN:VCALENDAR
VERSION:2.0
PRODID:-//State of Washington Water Research Center - ECPv6.1.3//NONSGML v1.0//EN
CALSCALE:GREGORIAN
METHOD:PUBLISH
X-WR-CALNAME:State of Washington Water Research Center
X-ORIGINAL-URL:https://wrc.wsu.edu
X-WR-CALDESC:Events for State of Washington Water Research Center
REFRESH-INTERVAL;VALUE=DURATION:PT1H
X-Robots-Tag:noindex
X-PUBLISHED-TTL:PT1H
BEGIN:VTIMEZONE
TZID:America/Los_Angeles
BEGIN:DAYLIGHT
TZOFFSETFROM:-0800
TZOFFSETTO:-0700
TZNAME:PDT
DTSTART:20240310T100000
END:DAYLIGHT
BEGIN:STANDARD
TZOFFSETFROM:-0700
TZOFFSETTO:-0800
TZNAME:PST
DTSTART:20241103T090000
END:STANDARD
END:VTIMEZONE
BEGIN:VEVENT
DTSTART;VALUE=DATE:20240124
DTEND;VALUE=DATE:20240125
DTSTAMP:20260425T141257
CREATED:20230905T212637Z
LAST-MODIFIED:20230905T212637Z
UID:8282-1706054400-1706140799@wrc.wsu.edu
SUMMARY:WaterSciCon Abstract Submission Closes
DESCRIPTION:The Water Science Conference (WaterSciCon) brings the water community together every two years to share research\, collaborate\, and plan for the future. WaterSciCon 2024 will be held the week of 23 June 2024 in St. Paul\, Minnesota. \nWaterSciCon advances hydrology and related global convergent science issues and helps address and expose local and regional issues worldwide. The meeting will bring together a community of water-focused researchers\, educators\, practitioners\, engineers\, and policymakers spanning academic\, agency\, public\, and private sectors to share tools and approaches\, build new collaborations\, and synthesize our understanding of people\, planet\, and water science. \nThe theme of the meeting is Catalyzing Collaboration. Leveraging collaborations between co-sponsors\, AGU and CUAHSI\, WaterSciCon includes engineering\, urban planning\, social science\, and affiliated science communities.
URL:https://wrc.wsu.edu/event/waterscicon-abstract-submission-closes/
END:VEVENT
END:VCALENDAR