BEGIN:VCALENDAR
VERSION:2.0
PRODID:-//State of Washington Water Research Center - ECPv6.1.3//NONSGML v1.0//EN
CALSCALE:GREGORIAN
METHOD:PUBLISH
X-WR-CALNAME:State of Washington Water Research Center
X-ORIGINAL-URL:https://wrc.wsu.edu
X-WR-CALDESC:Events for State of Washington Water Research Center
REFRESH-INTERVAL;VALUE=DURATION:PT1H
X-Robots-Tag:noindex
X-PUBLISHED-TTL:PT1H
BEGIN:VTIMEZONE
TZID:America/Los_Angeles
BEGIN:DAYLIGHT
TZOFFSETFROM:-0800
TZOFFSETTO:-0700
TZNAME:PDT
DTSTART:20260308T100000
END:DAYLIGHT
BEGIN:STANDARD
TZOFFSETFROM:-0700
TZOFFSETTO:-0800
TZNAME:PST
DTSTART:20261101T090000
END:STANDARD
END:VTIMEZONE
BEGIN:VEVENT
DTSTART;VALUE=DATE:20260517
DTEND;VALUE=DATE:20260522
DTSTAMP:20260425T155428
CREATED:20250625T155011Z
LAST-MODIFIED:20250625T155011Z
UID:9585-1778976000-1779407999@wrc.wsu.edu
SUMMARY:Save the Date: Society for Freshwater Science
DESCRIPTION:Annual Meeting: May 17–21\, 2026 in Spokane\, Wash.
URL:https://wrc.wsu.edu/event/save-the-date-society-for-freshwater-science/
LOCATION:Spokane\, WA
END:VEVENT
BEGIN:VEVENT
DTSTART;VALUE=DATE:20260518
DTEND;VALUE=DATE:20260521
DTSTAMP:20260425T155428
CREATED:20250625T155813Z
LAST-MODIFIED:20250625T155916Z
UID:9591-1779062400-1779321599@wrc.wsu.edu
SUMMARY:AWRA 2026 Geospatial Water Technology Conference
DESCRIPTION:MAY 18-20\, 2026 | NIAGARA FALLS\, NY\n  \nGeospatial Water Technology is central to understand and solve problems related to water resources. While geospatial data continue to grow in all three dimensions\, including space\, time and size\, modern tools such as high-performance cloud computing\, geospatial data visualization\, data analytics\, and machine learning/artificial intelligence have enabled the development of novel decision-making frameworks and web-based applications that are integral to the water resources management.
URL:https://wrc.wsu.edu/event/awra-2026-geospatial-water-technology-conference/
END:VEVENT
END:VCALENDAR