BEGIN:VCALENDAR
VERSION:2.0
PRODID:-//State of Washington Water Research Center - ECPv6.1.3//NONSGML v1.0//EN
CALSCALE:GREGORIAN
METHOD:PUBLISH
X-WR-CALNAME:State of Washington Water Research Center
X-ORIGINAL-URL:https://wrc.wsu.edu
X-WR-CALDESC:Events for State of Washington Water Research Center
REFRESH-INTERVAL;VALUE=DURATION:PT1H
X-Robots-Tag:noindex
X-PUBLISHED-TTL:PT1H
BEGIN:VTIMEZONE
TZID:America/Los_Angeles
BEGIN:DAYLIGHT
TZOFFSETFROM:-0800
TZOFFSETTO:-0700
TZNAME:PDT
DTSTART:20250309T100000
END:DAYLIGHT
BEGIN:STANDARD
TZOFFSETFROM:-0700
TZOFFSETTO:-0800
TZNAME:PST
DTSTART:20251102T090000
END:STANDARD
END:VTIMEZONE
BEGIN:VEVENT
DTSTART;VALUE=DATE:20251028
DTEND;VALUE=DATE:20251029
DTSTAMP:20260425T205159
CREATED:20250625T175759Z
LAST-MODIFIED:20250625T175759Z
UID:9598-1761609600-1761695999@wrc.wsu.edu
SUMMARY:Palouse Basin Water Summit
DESCRIPTION:October 28th at the SEL Event Center \nKeynote speaker is Daniel Rothberg. He is an author-journalist based in Davis\, California and has a regular Substack post called Western Water Notes.
URL:https://wrc.wsu.edu/event/palouse-basin-water-summit-6/
END:VEVENT
BEGIN:VEVENT
DTSTART;TZID=America/Los_Angeles:20251028T103000
DTEND;TZID=America/Los_Angeles:20251028T113000
DTSTAMP:20260425T205159
CREATED:20250902T162327Z
LAST-MODIFIED:20250902T162327Z
UID:9620-1761647400-1761651000@wrc.wsu.edu
SUMMARY:Snow Modeling
DESCRIPTION:Idaho Water Resources Research Center \n\n\n\n\n\n\n\n\n\nThe Water Resources Seminar Series is open to all interested professionals\, legislators\, water supply managers\, local government representatives\, attorneys\, students and interested public.\nTuesdays\, September thru the beginning of December\, 10:30am PT / 11:30am MT \n\n\n\n\n\n\n\n\n\nSpeaker: Andrew Hedrick (USDA-NWRC) \n\n\n\n\n\n\n\nZOOM LINK\n\n\n\n\n\n\n\n\n\n\n\n\nMeeting ID: 865 7192 8806\nPasscode: 1234
URL:https://wrc.wsu.edu/event/snow-modeling/
END:VEVENT
END:VCALENDAR