BEGIN:VCALENDAR
VERSION:2.0
PRODID:-//State of Washington Water Research Center - ECPv6.1.3//NONSGML v1.0//EN
CALSCALE:GREGORIAN
METHOD:PUBLISH
X-WR-CALNAME:State of Washington Water Research Center
X-ORIGINAL-URL:https://wrc.wsu.edu
X-WR-CALDESC:Events for State of Washington Water Research Center
REFRESH-INTERVAL;VALUE=DURATION:PT1H
X-Robots-Tag:noindex
X-PUBLISHED-TTL:PT1H
BEGIN:VTIMEZONE
TZID:America/Los_Angeles
BEGIN:DAYLIGHT
TZOFFSETFROM:-0800
TZOFFSETTO:-0700
TZNAME:PDT
DTSTART:20250309T100000
END:DAYLIGHT
BEGIN:STANDARD
TZOFFSETFROM:-0700
TZOFFSETTO:-0800
TZNAME:PST
DTSTART:20251102T090000
END:STANDARD
END:VTIMEZONE
BEGIN:VEVENT
DTSTART;VALUE=DATE:20250204
DTEND;VALUE=DATE:20250207
DTSTAMP:20260419T060205
CREATED:20240619T152317Z
LAST-MODIFIED:20240619T152410Z
UID:8995-1738627200-1738886399@wrc.wsu.edu
SUMMARY:2025 River Restoration Northwest Symposium
DESCRIPTION:February 4-6\, 2025 \nSkamania\, WA \n  \nYou are invited to learn about innovative projects\, research\, and experiences to advance the science and standards of practice of river restoration.
URL:https://wrc.wsu.edu/event/2025-river-restoration-northwest-symposium/
LOCATION:Skamania\, WA
END:VEVENT
END:VCALENDAR