BEGIN:VCALENDAR
VERSION:2.0
PRODID:-//State of Washington Water Research Center - ECPv6.1.3//NONSGML v1.0//EN
CALSCALE:GREGORIAN
METHOD:PUBLISH
X-WR-CALNAME:State of Washington Water Research Center
X-ORIGINAL-URL:https://wrc.wsu.edu
X-WR-CALDESC:Events for State of Washington Water Research Center
REFRESH-INTERVAL;VALUE=DURATION:PT1H
X-Robots-Tag:noindex
X-PUBLISHED-TTL:PT1H
BEGIN:VTIMEZONE
TZID:America/Los_Angeles
BEGIN:DAYLIGHT
TZOFFSETFROM:-0800
TZOFFSETTO:-0700
TZNAME:PDT
DTSTART:20240310T100000
END:DAYLIGHT
BEGIN:STANDARD
TZOFFSETFROM:-0700
TZOFFSETTO:-0800
TZNAME:PST
DTSTART:20241103T090000
END:STANDARD
END:VTIMEZONE
BEGIN:VEVENT
DTSTART;TZID=America/Los_Angeles:20241112T120000
DTEND;TZID=America/Los_Angeles:20241112T130000
DTSTAMP:20260424T095658
CREATED:20241015T213859Z
LAST-MODIFIED:20241015T213859Z
UID:9280-1731412800-1731416400@wrc.wsu.edu
SUMMARY:Stormwater Awareness Week: National Perspectives on Stormwater
DESCRIPTION:November 12th \n12:00-1:00 PM \nLocation: Virtual/Online \nSeth Brown will cover the major national issues in stormwater (policy issues\, rule-makings\, Supreme Court cases\, etc.) as well as other noteworthy topics\, such as the ASCE Infrastructure Report Card (including stormwater)\, resilience\, emerging contaminants\, etc.  He will also talk about the National Municipal Stormwater Alliance (NMSA) work\, and the need for a national organization for stormwater and discuss/promote the National Stormwater Day webinar. \nRegister Now
URL:https://wrc.wsu.edu/event/stormwater-awareness-week-national-perspectives-on-stormwater/
END:VEVENT
END:VCALENDAR