BEGIN:VCALENDAR
VERSION:2.0
PRODID:-//State of Washington Water Research Center - ECPv6.1.3//NONSGML v1.0//EN
CALSCALE:GREGORIAN
METHOD:PUBLISH
X-WR-CALNAME:State of Washington Water Research Center
X-ORIGINAL-URL:https://wrc.wsu.edu
X-WR-CALDESC:Events for State of Washington Water Research Center
REFRESH-INTERVAL;VALUE=DURATION:PT1H
X-Robots-Tag:noindex
X-PUBLISHED-TTL:PT1H
BEGIN:VTIMEZONE
TZID:America/Los_Angeles
BEGIN:DAYLIGHT
TZOFFSETFROM:-0800
TZOFFSETTO:-0700
TZNAME:PDT
DTSTART:20240310T100000
END:DAYLIGHT
BEGIN:STANDARD
TZOFFSETFROM:-0700
TZOFFSETTO:-0800
TZNAME:PST
DTSTART:20241103T090000
END:STANDARD
END:VTIMEZONE
BEGIN:VEVENT
DTSTART;VALUE=DATE:20240408
DTEND;VALUE=DATE:20240411
DTSTAMP:20260422T162025
CREATED:20230720T142116Z
LAST-MODIFIED:20230720T142212Z
UID:7597-1712534400-1712793599@wrc.wsu.edu
SUMMARY:AWRA 2024 Spring Conference
DESCRIPTION:Water Risk and Resilience: Research and Sustainable Solutions\nAPRIL 8-10\, 2024 | Tuscaloosa\, AL\n  \nThe AWRA 2024 Spring Specialty Conference\, co-hosted by the AWRA Future Risk Committee and the Alabama Water Institute. The theme for the conference is “Water Risk and Resilience: Research and Sustainable Solutions”.
URL:https://wrc.wsu.edu/event/awra-2024-spring-conference/
LOCATION:Tuscaloosa\, AL
END:VEVENT
END:VCALENDAR