BEGIN:VCALENDAR
VERSION:2.0
PRODID:-//State of Washington Water Research Center - ECPv6.1.3//NONSGML v1.0//EN
CALSCALE:GREGORIAN
METHOD:PUBLISH
X-ORIGINAL-URL:https://wrc.wsu.edu
X-WR-CALDESC:Events for State of Washington Water Research Center
REFRESH-INTERVAL;VALUE=DURATION:PT1H
X-Robots-Tag:noindex
X-PUBLISHED-TTL:PT1H
BEGIN:VTIMEZONE
TZID:America/Los_Angeles
BEGIN:DAYLIGHT
TZOFFSETFROM:-0800
TZOFFSETTO:-0700
TZNAME:PDT
DTSTART:20240310T100000
END:DAYLIGHT
BEGIN:STANDARD
TZOFFSETFROM:-0700
TZOFFSETTO:-0800
TZNAME:PST
DTSTART:20241103T090000
END:STANDARD
END:VTIMEZONE
BEGIN:VEVENT
DTSTART;VALUE=DATE:20240315
DTEND;VALUE=DATE:20240317
DTSTAMP:20260424T065602
CREATED:20231115T184157Z
LAST-MODIFIED:20231115T184516Z
UID:8534-1710460800-1710633599@wrc.wsu.edu
SUMMARY:2024 Pacific Northwest Ground Water Exposition
DESCRIPTION:In the late 1950s\, members of the water well industry came together to create a trade show specifically for the Pacific Northwest. As the event grew in popularity\, the Pacific Northwest Ground Water Association (PNWGWA) was officially formed with representation from the Alaska\, Idaho\, Oregon\, and Washington state associations. \nThe PNWGWA’s goal is to provide a quality program bringing together contractors\, manufacturers\, and suppliers focused on the needs of the ground water industry in the Pacific Northwest.  \nJoin fellow ground water industry professionals from Alaska\, Idaho\, Oregon\, Washington\, and surrounding areas for the premier biennial industry event in the region. \nDetails about the event\, including exhibiting and sponsorship opportunities\, the schedule of workshops and other educational offerings\, and registration will be added to the website as the information becomes available. In the meantime\, mark the dates on your calendar –  March 15-16\, 2024 in Vancouver\, Washington!
URL:https://wrc.wsu.edu/event/2024-pacific-northwest-groundwater-exposition/
LOCATION:Vancouver\, WA
END:VEVENT
END:VCALENDAR