BEGIN:VCALENDAR
VERSION:2.0
PRODID:-//State of Washington Water Research Center - ECPv6.1.3//NONSGML v1.0//EN
CALSCALE:GREGORIAN
METHOD:PUBLISH
X-WR-CALNAME:State of Washington Water Research Center
X-ORIGINAL-URL:https://wrc.wsu.edu
X-WR-CALDESC:Events for State of Washington Water Research Center
REFRESH-INTERVAL;VALUE=DURATION:PT1H
X-Robots-Tag:noindex
X-PUBLISHED-TTL:PT1H
BEGIN:VTIMEZONE
TZID:America/Los_Angeles
BEGIN:DAYLIGHT
TZOFFSETFROM:-0800
TZOFFSETTO:-0700
TZNAME:PDT
DTSTART:20230312T100000
END:DAYLIGHT
BEGIN:STANDARD
TZOFFSETFROM:-0700
TZOFFSETTO:-0800
TZNAME:PST
DTSTART:20231105T090000
END:STANDARD
END:VTIMEZONE
BEGIN:VEVENT
DTSTART;VALUE=DATE:20231106
DTEND;VALUE=DATE:20231109
DTSTAMP:20260425T181936
CREATED:20230720T141355Z
LAST-MODIFIED:20230720T141355Z
UID:7591-1699228800-1699487999@wrc.wsu.edu
SUMMARY:AWRA 2023 Annual Water Resources Conference
DESCRIPTION:AWRA provides you with innovative\, practical\, and applied water resource management solutions\, management techniques\, and current research.
URL:https://wrc.wsu.edu/event/awra-2023-annual-water-resources-conference/
LOCATION:Raleigh\, NC
END:VEVENT
BEGIN:VEVENT
DTSTART;VALUE=DATE:20231106
DTEND;VALUE=DATE:20231110
DTSTAMP:20260425T181936
CREATED:20230810T222011Z
LAST-MODIFIED:20230810T222116Z
UID:7819-1699228800-1699574399@wrc.wsu.edu
SUMMARY:Workshop with Pacific Northwest National Laboratory
DESCRIPTION:Reactive Transport with Sophisticated Reaction Networks: Hands-On Experience with the PFLOTRAN Reaction SandboxCUAHSI is excited to collaborate with PNNL on this new short course!Gain training in using reactive transport modeling to resolve environmental problemsDates: Monday\, Nov 6 – Thursday\, Nov 9\, 2023Location: Pacific Northwest National Laboratory\, Richland\, WAInstructors: \n\nGlenn Hammond\, Pacific Northwest National Laboratories\nXingyuan Chen\, Pacific Northwest National Laboratories\n\nRegistration Deadline: September 14\, 2023There are a limited number of spots available for this short course. We recommend registering as soon as possible. The course is aimed at graduate students\, post-docs\, professionals\, and senior scientists who will use reactive transport modeling as part of their work. Reactive transport modeling is increasingly important for solving real-world environmental issues related to water quality\, and ecological habitats\, and evaluating the performance of environmental restoration and remediation efforts. This short course will train participants in conceptualizing\, implementing\, and troubleshooting reaction networks in reactive transport models through hands-on experience. During this short course\, participants will: \n\nLearn reactive transport modeling fundamentals\nBe introduced to simulation tools\, focusing on PFLOTRAN (pflotran.org)\nGain experience with flow and reactive transport problems\nLearn to design and encode new reaction networks in the PFLOTRAN Reaction Sandbox\n\nLearn more and register on the CUAHSI Website here!
URL:https://wrc.wsu.edu/event/workshop-with-pacific-northwest-national-laboratory/
END:VEVENT
END:VCALENDAR