BEGIN:VCALENDAR
VERSION:2.0
PRODID:-//State of Washington Water Research Center - ECPv6.1.3//NONSGML v1.0//EN
CALSCALE:GREGORIAN
METHOD:PUBLISH
X-ORIGINAL-URL:https://wrc.wsu.edu
X-WR-CALDESC:Events for State of Washington Water Research Center
REFRESH-INTERVAL;VALUE=DURATION:PT1H
X-Robots-Tag:noindex
X-PUBLISHED-TTL:PT1H
BEGIN:VTIMEZONE
TZID:America/Los_Angeles
BEGIN:DAYLIGHT
TZOFFSETFROM:-0800
TZOFFSETTO:-0700
TZNAME:PDT
DTSTART:20230312T100000
END:DAYLIGHT
BEGIN:STANDARD
TZOFFSETFROM:-0700
TZOFFSETTO:-0800
TZNAME:PST
DTSTART:20231105T090000
END:STANDARD
END:VTIMEZONE
BEGIN:VEVENT
DTSTART;TZID=America/Los_Angeles:20231019T080000
DTEND;TZID=America/Los_Angeles:20231019T090000
DTSTAMP:20260425T193839
CREATED:20230224T201905Z
LAST-MODIFIED:20230224T201905Z
UID:7395-1697702400-1697706000@wrc.wsu.edu
SUMMARY:Beavers: The Original Log Transformation 
DESCRIPTION:Emily Fairfax\, California State University\, Channel Islands (U.S.)\nCherie Westbrook\, University of Saskatchewan (Canada) \nRegister here: https://psu.zoom.us/meeting/register/tJUrd-uprjwvGdDEgrPY-bqLX11rDaXiYO6S
URL:https://wrc.wsu.edu/event/beavers-the-original-log-transformation/
END:VEVENT
BEGIN:VEVENT
DTSTART;TZID=America/Los_Angeles:20231019T090000
DTEND;TZID=America/Los_Angeles:20231019T100000
DTSTAMP:20260425T193839
CREATED:20230925T164014Z
LAST-MODIFIED:20230925T164014Z
UID:8400-1697706000-1697709600@wrc.wsu.edu
SUMMARY:Engaging in Interdisciplinary Climate and Environmental Research
DESCRIPTION:Sponsored by the Center for Environmental Research\, Education\, and Outreach \n\n\nResearchers are invited to this event to learn more about how to apply for and manage large\, interdisciplinary research grants.  This hour includes an overview of CEREO\, a panel discussion with PIs who have had grant success working on large awards\, and a Q&A period. \n\nTime & Place\nThursday\, October 19\, 2023 at 9:00 – 10:00 am via Zoom. \nRSVP for a calendar invite and Zoom details. \nRSVP HERE
URL:https://wrc.wsu.edu/event/engaging-in-interdisciplinary-climate-and-environmental-research/
END:VEVENT
BEGIN:VEVENT
DTSTART;TZID=America/Los_Angeles:20231019T100000
DTEND;TZID=America/Los_Angeles:20231019T110000
DTSTAMP:20260425T193839
CREATED:20230821T205925Z
LAST-MODIFIED:20230821T210755Z
UID:7860-1697709600-1697713200@wrc.wsu.edu
SUMMARY:Navigating Academic Waters Series
DESCRIPTION:The What\, Why\, and How of Building Your Personal Research Brand – Part II: Co-Working Meeting\nOCT 19\, 2023 / 10:00 AM – 11:00 AM PST\n  \nThis co-working meeting is the follow-up to the\, What\, Why\, and How of Building Your Personal Research Brand – Part I\, panel discussion webinar that took place on October 12\, 2023. The hands-on co-working meeting will provide ECR hydrologists time to work on building their personal research brand using the strategy / platform of their choice. \nFull details on this series can be found here.
URL:https://wrc.wsu.edu/event/navigating-academic-waters-series-3/
END:VEVENT
BEGIN:VEVENT
DTSTART;TZID=America/Los_Angeles:20231019T110000
DTEND;TZID=America/Los_Angeles:20231019T120000
DTSTAMP:20260425T193839
CREATED:20230925T170021Z
LAST-MODIFIED:20230925T170021Z
UID:8412-1697713200-1697716800@wrc.wsu.edu
SUMMARY:Tribal Sovereignty in Research and Community Engaged Initiatives
DESCRIPTION:Sponsored by the Office of Tribal Relations \n\n\nPlease join Dr. Zoe Higheagle Strong (Nimiipuu/Nez Perce)\, Vice Provost for Native American Relations and Tribal Liaison to the President as she dives deeper into WSU’s Executive Policy 41 on Tribal Engagement\, Consultation\, and Consent by interviewing an honored leader and activist in Tribal Sovereignty Brian Cladoosby (Swinomish). \n\n\nTime & Place\n11:00 am – Noon\, Thursday\, October 19\, 2023\, WSU Everett Campus Lecture Hall and via Zoom. \nRSVP for a calendar invite and Zoom details. \nModerator\n\nZoe Higheagle Strong\, Vice Provost for Native American Relations and Tribal Liaison to the President\n\nGuest\n\nBrian Cladoosby\, Swinomish Leader and Activist\n\nThe Honorable Brian Cladoosby has served Indian Country for over 35 years including 27 as the longest serving Chairman of the Swinomish Tribe. He also served in many key leadership positions such as Secretarial Tribal Advisory Committee for the U.S. Department of Health and Human Services\, President of the Affiliated Tribes of Northwest Indians\, President of the National Congress of American Indians\, President of the Association of Washington Tribes\, Executive Board Washington Indian Gaming Association\, and other regional and national roles. \nHis work for the advancement and empowerment of Tribes across the country has been based on Tribal Sovereignty and is also the foundation of his vision for the prosperity of future generations. Cladoosby has been instrumental in the domestic and international emergence of the northwest Indian country salmon and seafood industry. Swinomish Fish Company buys and sells seafood products from tribal\, national\, and international companies\, continuing the “buy and sell Native” motto of Indian Country. \nCladoosby’s work also touched on all aspects of governmental responsibilities with highlights that include working with the federal government to improve Tribal engagement\, the authorization of Dental Health Aide Therapists (DHATS)\, Economic Development – “Buy Native”\, Natural Resources – “Standing with Standing Rock”\, and the didgwálič Wellness Center. \nCladoosby’s national and regional work affects Tribes across Indian Country and his work on behalf of Swinomish stands as examples for all of Indian Country. \nPlease read WSU Executive Policy 41 prior to your attendance.\nRSVP HERE
URL:https://wrc.wsu.edu/event/tribal-sovereignty-in-research-and-community-engaged-initiatives/
END:VEVENT
BEGIN:VEVENT
DTSTART;TZID=America/Los_Angeles:20231019T140000
DTEND;TZID=America/Los_Angeles:20231019T150000
DTSTAMP:20260425T193839
CREATED:20230925T164346Z
LAST-MODIFIED:20230925T164346Z
UID:8403-1697724000-1697727600@wrc.wsu.edu
SUMMARY:Fulbright Visiting Scholars Experience
DESCRIPTION:Sponsored by the College of Arts and Sciences \n\n\nThe Fulbright Visiting Scholar Program\, the Fulbright Scholar-in-Residence\, and the Fulbright Foreign Student Program are all designed to bring accomplished faculty and students to WSU for collaboration\, project development\, education\, and research. Learn about what it takes to host an incoming Fulbrighter and hear from the scholars and students themselves. \nTime & Place\nThursday\, October 19\, 2:00 – 3:00 via Zoom \nRSVP for a calendar invite and Zoom details. \nWelcome\n\nPaul Whitney\, Assoc. Vice President for International Programs\n\nSpeakers\n\nJoseph Gladstone\, Assoc. Prof. of Management\, Carson College of Business\, WSU Everett\n\nHost to University of Aukland Fulbright Visiting Scholar\n\n\nKesevan Veloo\, Graduate Student\, WSU Phenomics Lab and Sindhuja Sankaran\, Assoc Prof. of Biological Systems Engineering\, CAHNRS\n\nFulbright Malaysian Graduate Study and Research Program\n\n\n\nRSVP HERE
URL:https://wrc.wsu.edu/event/fulbright-visiting-scholars-experience/
END:VEVENT
END:VCALENDAR