BEGIN:VCALENDAR
VERSION:2.0
PRODID:-//State of Washington Water Research Center - ECPv6.1.3//NONSGML v1.0//EN
CALSCALE:GREGORIAN
METHOD:PUBLISH
X-WR-CALNAME:State of Washington Water Research Center
X-ORIGINAL-URL:https://wrc.wsu.edu
X-WR-CALDESC:Events for State of Washington Water Research Center
REFRESH-INTERVAL;VALUE=DURATION:PT1H
X-Robots-Tag:noindex
X-PUBLISHED-TTL:PT1H
BEGIN:VTIMEZONE
TZID:America/Los_Angeles
BEGIN:DAYLIGHT
TZOFFSETFROM:-0800
TZOFFSETTO:-0700
TZNAME:PDT
DTSTART:20230312T100000
END:DAYLIGHT
BEGIN:STANDARD
TZOFFSETFROM:-0700
TZOFFSETTO:-0800
TZNAME:PST
DTSTART:20231105T090000
END:STANDARD
END:VTIMEZONE
BEGIN:VEVENT
DTSTART;TZID=America/Los_Angeles:20231017T090000
DTEND;TZID=America/Los_Angeles:20231017T100000
DTSTAMP:20260425T193825
CREATED:20230925T163423Z
LAST-MODIFIED:20230925T163423Z
UID:8394-1697533200-1697536800@wrc.wsu.edu
SUMMARY:Community Engaged Research Opportunities
DESCRIPTION:Sponsored by the Office of Research Advancement and Partnerships \n\n\nA thriving research ecosystem that includes a commitment to\, and support for\, robust community-engaged research is central to WSU’s land grant mission. Community-engaged research values multiple\, diverse\, sets of knowledge and holds as its basic tenant that community needs\, values\, and objectives drive every part of the research lifecycle—from the conception of research questions\, to the design of research methodologies\, to determining the range of outputs and measures for and evaluations of impacts. Community-engaged research amplifies the benefits of translational research by promoting the shared creation of knowledge\, through sustainable\, respectful\, and mutually beneficial relationships. This roundtable discussion will include panelists from across disciplines to  describe various types of community engaged research practices\, values\, methodologies and results. The session will end with a special announcement about future CER funding opportunities at WSU Pullman. \nTime & Place\nTuesday\, October 17\, 2023 at 9:00 – 10:00 am via Zoom. \nRSVP for a calendar invite and Zoom details. \nModerator\n\nKim Christen\, Associate Vice Chancellor (Pullman) for Research Advancement and Partnerships\n\nPanel\n\nStephany Johnson\, Asst. Professor\, Cultural Studies and Social Thought in Education\nPilar Fernandez\, Asst. Professor\, Allen School for Global Health\nJacqueline Wilson\, Asst. Professor\, School of Music\nElizabeth Weybright\, Assoc. Professor\, Human Development\n\nRSVP HERE
URL:https://wrc.wsu.edu/event/community-engaged-research-opportunities/
END:VEVENT
BEGIN:VEVENT
DTSTART;TZID=America/Los_Angeles:20231017T100000
DTEND;TZID=America/Los_Angeles:20231017T110000
DTSTAMP:20260425T193825
CREATED:20230925T163025Z
LAST-MODIFIED:20230925T163025Z
UID:8391-1697536800-1697540400@wrc.wsu.edu
SUMMARY:New Faculty Seed Grant Info Session
DESCRIPTION:The Office of Research and Office of the Provost support the annual New Faculty Seed Grants to help junior faculty develop research\, scholarly\, or creative programsthat lead to sustained professional development and extramural funding. This program supports projects that will significantly contribute to the PI’s long range goals by kick-starting a more complex project or idea. Projects with a strong potential to lead to significant external funding and/or PI portfolio development are encouraged. \nAwards may not exceed $25\,000. \nThe 2024 application cycle begins November 1. A Notice of Intent is required and must be submitted by 5pm December 1\, 2023 in order to be considered for this program. Full proposals are due February 9\, 2024 by 5pm. \nTuesday\, October 17\, 2023 at 10:00 – 11:00 via Zoom. \nEmily Brashear\nOffice of Research Advancement and Partnerships \nRSVP HERE
URL:https://wrc.wsu.edu/event/new-faculty-seed-grant-info-session/
END:VEVENT
END:VCALENDAR