BEGIN:VCALENDAR
VERSION:2.0
PRODID:-//State of Washington Water Research Center - ECPv6.1.3//NONSGML v1.0//EN
CALSCALE:GREGORIAN
METHOD:PUBLISH
X-WR-CALNAME:State of Washington Water Research Center
X-ORIGINAL-URL:https://wrc.wsu.edu
X-WR-CALDESC:Events for State of Washington Water Research Center
REFRESH-INTERVAL;VALUE=DURATION:PT1H
X-Robots-Tag:noindex
X-PUBLISHED-TTL:PT1H
BEGIN:VTIMEZONE
TZID:America/Los_Angeles
BEGIN:DAYLIGHT
TZOFFSETFROM:-0800
TZOFFSETTO:-0700
TZNAME:PDT
DTSTART:20230312T100000
END:DAYLIGHT
BEGIN:STANDARD
TZOFFSETFROM:-0700
TZOFFSETTO:-0800
TZNAME:PST
DTSTART:20231105T090000
END:STANDARD
END:VTIMEZONE
BEGIN:VEVENT
DTSTART;TZID=America/Los_Angeles:20231012T100000
DTEND;TZID=America/Los_Angeles:20231012T110000
DTSTAMP:20260425T193822
CREATED:20230821T205701Z
LAST-MODIFIED:20230821T205701Z
UID:7858-1697104800-1697108400@wrc.wsu.edu
SUMMARY:Navigating Academic Waters Series
DESCRIPTION:The What\, Why\, and How of Building Your Personal Research Brand – Part I: Panel Webinar\nOctober 12\, 2023 / 10:00 AM – 11:00 AM PST\n  \nAll early career hydrologists (ECR) have a personal brand. The question is\, how well developed it is\, and does it align with their personal and professional goals? Through a moderated panel discussion with researchers that have well-developed personal brands\, we will define what a personal brand is and explain why it matters. We will also identify multiple strategies to help ECRs craft\, build\, and develop the personal brand that they desire. \nFull series details can be found here.
URL:https://wrc.wsu.edu/event/navigating-academic-waters-series-2/
END:VEVENT
END:VCALENDAR