BEGIN:VCALENDAR
VERSION:2.0
PRODID:-//State of Washington Water Research Center - ECPv6.1.3//NONSGML v1.0//EN
CALSCALE:GREGORIAN
METHOD:PUBLISH
X-ORIGINAL-URL:https://wrc.wsu.edu
X-WR-CALDESC:Events for State of Washington Water Research Center
REFRESH-INTERVAL;VALUE=DURATION:PT1H
X-Robots-Tag:noindex
X-PUBLISHED-TTL:PT1H
BEGIN:VTIMEZONE
TZID:America/Los_Angeles
BEGIN:DAYLIGHT
TZOFFSETFROM:-0800
TZOFFSETTO:-0700
TZNAME:PDT
DTSTART:20230312T100000
END:DAYLIGHT
BEGIN:STANDARD
TZOFFSETFROM:-0700
TZOFFSETTO:-0800
TZNAME:PST
DTSTART:20231105T090000
END:STANDARD
END:VTIMEZONE
BEGIN:VEVENT
DTSTART;VALUE=DATE:20231002
DTEND;VALUE=DATE:20231005
DTSTAMP:20260425T193840
CREATED:20230905T213411Z
LAST-MODIFIED:20230905T213411Z
UID:8285-1696204800-1696463999@wrc.wsu.edu
SUMMARY:12th Northwest Climate Conference (NWCC)
DESCRIPTION:On October 2-4\, 2023\, Boise State University will host the 12th Northwest Climate Conference (NWCC) as a fully virtual conference. This conference has provided a networking and learning community for practitioners\, scientists\, tribal members\, and community organizers interested in climate change impacts and adaptation in the Northwest for over a decade. The NWCC is committed to supporting equitable climate adaptation outcomes and building equity and diversity in climate science\, policy\, and adaptation practice. We encourage our conference attendees and presenters to advance the conversation around climate justice both as a stand alone topic and across the many other topics and themes profiled in the conference. If you are working to build a climate-resilient Northwest\, this conference is for you.
URL:https://wrc.wsu.edu/event/12th-northwest-climate-conference-nwcc/
LOCATION:Virtual
END:VEVENT
END:VCALENDAR